BEGIN:VCALENDAR
VERSION:2.0
PRODID:-//Первая украинская школа телесных терапий - ECPv4.6.6//NONSGML v1.0//EN
CALSCALE:GREGORIAN
METHOD:PUBLISH
X-WR-CALNAME:Первая украинская школа телесных терапий
X-ORIGINAL-URL:http://cstherapy.com.ua
X-WR-CALDESC:Events for Первая украинская школа телесных терапий
BEGIN:VEVENT
DTSTART;TZID=UTC+2:20231006T100000
DTEND;TZID=UTC+2:20231008T170000
DTSTAMP:20260422T090015
CREATED:20230927T191905Z
LAST-MODIFIED:20230929T051600Z
UID:1005-1696586400-1696784400@cstherapy.com.ua
SUMMARY:Краниосакральная терапия - Биодинамика. 1 и 2 модули
DESCRIPTION:В ПРОГРАММЕ СЕМИНАРА:\n\nИстория и философия остеопатии и краниосакральной терапии.\nОбучение навыкам пальпации и перцепции\, тонкочувствительной диагностики.\nРасслабление поперечных структур:\n\n— освобождение крестца и тазовая диафрагма; \n— грудобрюшная диафрагма; \n— вход в грудную клетку; \n— подъязычная кость; \n— атланто-окципитальный (шейно-затылочный) переход. \n\nРабота с костями черепа\, освобождение от напряжения.\nМембраны взаимного натяжения.\nСпинно-мозговая жидкость (ликвор).\nВисочные кости.\nОсновная (клиновидная\, крыловидная) кость.\nЛобная кость.\nТеменные кости.\nРешетчатая кость.\nНижняя челюсть\, височно-нижнечелюстной сустав.\nСфенобазилярный синхондроз (симфиз).\nКомпрессия четвертого желудочка мозга (техника CV4).\nБалансировка системы через твердую мозговую оболочку.\nТехника V-spread.\n10-шаговый протокол.\n\n
URL:http://cstherapy.com.ua/event/kraniosakralnaya-terapiya-biodinamika-1-i-2-moduli-2
LOCATION:Тарасівська\, 6\, Київ\, місто Київ\, 02140\, Украина
END:VEVENT
END:VCALENDAR