BEGIN:VCALENDAR
VERSION:2.0
PRODID:-//Первая украинская школа телесных терапий - ECPv4.6.6//NONSGML v1.0//EN
CALSCALE:GREGORIAN
METHOD:PUBLISH
X-WR-CALNAME:Первая украинская школа телесных терапий
X-ORIGINAL-URL:http://cstherapy.com.ua
X-WR-CALDESC:Events for Первая украинская школа телесных терапий
BEGIN:VEVENT
DTSTART;TZID=UTC+2:20191005T100000
DTEND;TZID=UTC+2:20191006T180000
DTSTAMP:20260421T095418
CREATED:20190731T081644Z
LAST-MODIFIED:20190731T081644Z
UID:774-1570269600-1570384800@cstherapy.com.ua
SUMMARY:Краниосакральная терапия — Биодинамика. 2 модуль. Мозговой череп
DESCRIPTION:• Мозковий череп (neurocranium). \n• Оболонки головного і спинного мозку (dura mater encephali\, dura mater spinalis). \n• Утворення та циркуляція цереброспінальної рідини. \n• Сфено-базілярний синхондроз. \n• Моменти активізації регулятивних процесів організму: Stillpoint. \n• 10 кроків протоколу Апледжера та його модифікації. \n
URL:http://cstherapy.com.ua/event/kraniosakralnaya-terapiya-biodinamika-2-modul-mozgovoy-cherep-4
LOCATION:ул. Омеляновича-Павленка\, 14/12\, офис 15\, Киев\, Украина
END:VEVENT
END:VCALENDAR