BEGIN:VCALENDAR
VERSION:2.0
PRODID:-//Первая украинская школа телесных терапий - ECPv4.6.6//NONSGML v1.0//EN
CALSCALE:GREGORIAN
METHOD:PUBLISH
X-WR-CALNAME:Первая украинская школа телесных терапий
X-ORIGINAL-URL:http://cstherapy.com.ua
X-WR-CALDESC:Events for Первая украинская школа телесных терапий
BEGIN:VEVENT
DTSTART;TZID=UTC+2:20190907T100000
DTEND;TZID=UTC+2:20190908T180000
DTSTAMP:20260421T113719
CREATED:20190611T124149Z
LAST-MODIFIED:20190611T124149Z
UID:768-1567850400-1567965600@cstherapy.com.ua
SUMMARY:Краниосакральная терапия — Биодинамика. Первый модуль
DESCRIPTION:Темы модуля:\n— История развития КСТ.\n— Краниосакральная система (КСС): анатомия\, физиология.\n— Ликвородинамика\, понятие полузакрытой гидравлической системы.\n— Ритмические движения как проявления Дыхания жизни (Breathoflife) в теле человека.\n— Краниосакральный ритм\, прослушивание ритма на различных уровнях.\n— Основные принципы работы. Настройка. Развитие чувствительности (light touch). Опоры. Границы. Присутствие.\n— Уровни взаимодействия\, обзор – кость\, мембраны\, жидкость\, свет.\n— Работа с некоторыми компонентами КСС: крестец (sacrum)\, затылочная кость (os ocipitale).\n— Области поперечных ограничений распространению движения (диафрагмы). \n
URL:http://cstherapy.com.ua/event/kraniosakralnaya-terapiya-biodinamika-pervyiy-modul-4
LOCATION:ул. Омеляновича-Павленка\, 14/12\, офис 15\, Киев\, Украина
END:VEVENT
END:VCALENDAR