BEGIN:VCALENDAR
VERSION:2.0
PRODID:-//Первая украинская школа телесных терапий - ECPv4.6.6//NONSGML v1.0//EN
CALSCALE:GREGORIAN
METHOD:PUBLISH
X-WR-CALNAME:Первая украинская школа телесных терапий
X-ORIGINAL-URL:http://cstherapy.com.ua
X-WR-CALDESC:Events for Первая украинская школа телесных терапий
BEGIN:VEVENT
DTSTART;TZID=UTC+2:20190707T100000
DTEND;TZID=UTC+2:20190713T180000
DTSTAMP:20260421T141122
CREATED:20190301T194634Z
LAST-MODIFIED:20190301T194634Z
UID:753-1562493600-1563040800@cstherapy.com.ua
SUMMARY:Завершающий модуль по программе "Краниосакральная терапия - Биодинамика"
DESCRIPTION:\nБиодинамика\nДлинная волна\n\n
URL:http://cstherapy.com.ua/event/zavershayushhiy-modul-po-programme-kraniosakralnaya-terapiya-biodinamika-2
LOCATION:Садиба Біля Писаного Каменю Unnamed Road\, Верхній Ясенів\, Івано-Франківська область\, 78712\, Украина
END:VEVENT
END:VCALENDAR