BEGIN:VCALENDAR
VERSION:2.0
PRODID:-//Первая украинская школа телесных терапий - ECPv4.6.6//NONSGML v1.0//EN
CALSCALE:GREGORIAN
METHOD:PUBLISH
X-WR-CALNAME:Первая украинская школа телесных терапий
X-ORIGINAL-URL:http://cstherapy.com.ua
X-WR-CALDESC:Events for Первая украинская школа телесных терапий
BEGIN:VEVENT
DTSTART;TZID=UTC+2:20190518T100000
DTEND;TZID=UTC+2:20190519T180000
DTSTAMP:20260421T172516
CREATED:20190301T192101Z
LAST-MODIFIED:20190301T192101Z
UID:746-1558173600-1558288800@cstherapy.com.ua
SUMMARY:Краниосакральная терапия - Биодинамика. Гормональная система
DESCRIPTION:• Железы внутренней секреции. Роль гипоталамо-гипофизарной системы в регуляции их функционирования.\n• Связь краниосакральной системы и мембран взаимного натяжения с качеством работы гипоталамуса и гипофиза.\n• Работа с гормональной осью.\n• Понятие о биодинамическом состоянии и ребаланс. \n
URL:http://cstherapy.com.ua/event/kraniosakralnaya-terapiya-biodinamika-gormonalnaya-sistema-2
LOCATION:ул. Омеляновича-Павленка\, 14/12 офис 15\, Киев\, Украина
END:VEVENT
BEGIN:VEVENT
DTSTART;TZID=UTC+2:20190518T100000
DTEND;TZID=UTC+2:20190519T180000
DTSTAMP:20260421T172516
CREATED:20190326T200248Z
LAST-MODIFIED:20190326T200422Z
UID:755-1558173600-1558288800@cstherapy.com.ua
SUMMARY:Введение в недуальную биодинамику. Джеральд Вестхофф (Голландия)
DESCRIPTION:\nВводный практический семинар по Недуальной биодинамике представляет авторскую трехлетнюю программу обучения базовому курсу «Недуальная биодинамика».\n\nПреподаватель: Gerald Westhoff (Голландия) — один из лучших специалистов-практиков в мире. Основатель направления Недуальная Биодинамика. \nНедуальная Биодинамика — это способ восприятия динамики в видимых неотделимых биологических системах\, которые взаимодействуют\, соединяются\, выражаются и развиваются за счет действия внутренних и внешних сил всех природных процессов\, ориентированных на очевидное внутреннее ядро или Срединную линию. \nКогда мы видим\, как разворачиваются человеческая система и сама Жизнь в этих постоянно меняющихся процессах\, тогда мы видим тело\, разум\, эмоции\, энергии и психику не как конечный продукт\, а как непрерывное поле\, которое плавно взаимодействует\, адаптируется и проявляется сразу между всеми взаимозависимыми полями и силами. \nЭти врожденные природные силы имеют взаимосвязанное жидкостное проявление в тканях\, паттернах энергии\, психике\, характере поведения\, эмоциях и ощущениях в теле\, а подготовленный специалист умеет их воспринимать и знает как с ними работать. \nНедуальная биодинамика основана на понимании и видении сквозь природу Дукхи (страданий)\, Майи (заблуждений) и Адвайта Веданты (недуального осознания)\, ориентированного на здоровье\, исходящего из Тишины и ведущего к Целостности\, для Самореализации и обретению Личной силы\, кроме того модель холона\, единого поля и синтропии в качестве (научного) понимания творческих сил и модели Жизни\, проявляющихся в функциональных биодинамических процессах\, основанных на законах природы\, как это описано в Новой Немецкой медицине \nНедуальная биодинамика включает фокус внимания на освобождении от физических и эмоциональных блоков и других ограничений\, ограничивающих убеждений и идентификаций\, чтобы открыть свою Срединную линию (нотохорд) в качестве нашего основного и полного потенциала. Это повышает эффективность интегрированной системы здоровья и самоисцеления на основе непосредственных и взаимосвязанных слоев тела\, разума\, энергии\, эмоций и психики. \nЭта работа включает в себя ориентацию на естественную\, основанную на движении сердца Каруну (сострадание) и Метту (безусловную любящую доброту)\, развитие Эмпании (Радость сострадания или Мудита) и Невозмутимость (Упекха) \nОна объединяет суть краниосакральной Биодинамики\, которая оказывает глубокое исцеляющее воздействие на самом глубинном уровне\, с научным пониманием и духом медитации\, как средства преподавания\, в четком и прямом сердечном подходе\, который также ориентирован на результат. \nПрограмма включает обмен аналитическими взглядами и техниками на многоуровневой основе\, чтобы учащиеся в своей практике могли ориентироваться на целостность и опыт\, применять\, понимать и обеспечивать безопасную среду для исцеления клиентов. \nНа семинаре:\n— знакомство с программой\n— знакомство с преподавателем\n— знакомство с принципами и возможностями Недуальной Биодинамики\n— освоение простых навыков работы с Пространством\, Внутренним Ядром и Срединной Линией\n— концепция взаимосвязи тела с разумом\, эмоциями\, энергией\, духом и психикой и как с этим работать.\n— возможность понять\, как Недуальная Биодинамика может повысить качество и эффективность Вашей профессиональной деятельности. \nСтоимость семинара:\n2 700 грн. при регистрации до 30.04.2019\n3 200 грн. при регистрации после 30.04.2017 \nРегистрация подразумевает внесение предоплаты в размере 500 грн. \nЗАПИСАТЬСЯ: 097-026-53-59; 050-301-57-28 (Viber) Андрей \n\n\nhttps://www.facebook.com/events/606992523146053/\n\n
URL:http://cstherapy.com.ua/event/vvedenie-v-nedualnuyu-biodinamiku-dzherald-vesthoff-gollandiya
END:VEVENT
END:VCALENDAR