BEGIN:VCALENDAR
VERSION:2.0
PRODID:-//Первая украинская школа телесных терапий - ECPv4.6.6//NONSGML v1.0//EN
CALSCALE:GREGORIAN
METHOD:PUBLISH
X-WR-CALNAME:Первая украинская школа телесных терапий
X-ORIGINAL-URL:http://cstherapy.com.ua
X-WR-CALDESC:Events for Первая украинская школа телесных терапий
BEGIN:VEVENT
DTSTART;TZID=UTC+2:20190302T100000
DTEND;TZID=UTC+2:20190303T180000
DTSTAMP:20260421T204157
CREATED:20190113T091900Z
LAST-MODIFIED:20190113T091900Z
UID:719-1551520800-1551636000@cstherapy.com.ua
SUMMARY:Краниосакральная терапия — Биодинамика. Сфенобазилярный синхондроз
DESCRIPTION:• Дисфункции\, которые проявляются в нарушениях движения основания черепа (сфенобазилярный синхондроз). \n• Причины\, последствия\, коррекция. \n• Мембраны твердой мозговой оболочки (Dura mater). \n• Оптимизация венозных синусов мозга как структур\, которые непосредственно влияют на состояние краниосакральной системы и всего организма. \n
URL:http://cstherapy.com.ua/event/kraniosakralnaya-terapiya-biodinamika-sfenobazilyarnyiy-sinhondroz-2
LOCATION:ул. Омеляновича-Павленка\, 14/12 офис 15\, Киев\, Украина
END:VEVENT
END:VCALENDAR