BEGIN:VCALENDAR
VERSION:2.0
PRODID:-//Первая украинская школа телесных терапий - ECPv4.6.6//NONSGML v1.0//EN
CALSCALE:GREGORIAN
METHOD:PUBLISH
X-WR-CALNAME:Первая украинская школа телесных терапий
X-ORIGINAL-URL:http://cstherapy.com.ua
X-WR-CALDESC:Events for Первая украинская школа телесных терапий
BEGIN:VEVENT
DTSTART;TZID=UTC+2:20170414T180000
DTEND;TZID=UTC+2:20170414T210000
DTSTAMP:20260423T072459
CREATED:20170209T091748Z
LAST-MODIFIED:20170212T212913Z
UID:545-1492192800-1492203600@cstherapy.com.ua
SUMMARY:Курс Бодинамики: «Формирование мнения и способности принимать решения и нести ответственность за принятые решения»
DESCRIPTION:Курс практического исследования структур характера как анализ телесного развития. \nТермин «бодинамический» анализ образован от слияния слов: тело- (Body) и изменения–(dynamics). \nВ основе метода лежат представления о: \n\nпсихологии возрастного развития\,\nанатомии\nи возрастной физиологии нервно-мышечной системы\,\n\nописывающие динамику телесного развития ребенка и ее параллелизм с развитием личности. \nЧем знания о динамике развития ребенка и ведущие структуры характера взрослого человека могут быть полезны Вам? \nКак человеку! \n\nПонять себя\,\nопределить свои ведущие сильные структуры характера\,\nснизить напряжение\, застревание\, суету в отношении черт характера\, которые у вас являются не ведущими или даже слабо проявляющиеся в организации вашего пространства и жизни\,\nПолучить простые в использовании инструменты для сбалансирования ваших структур.\n\nКак родителю! \n\nПонять своего ребенка\,\nснизить уровень напряжения в отношении своих страхов и повышенных требований ребенку в виду страхов\, которые принадлежат только вам самим\,\nопределить этап развития ребенка и структуру характера\, которая сейчас доминирует\,\nполучить знания и сформировать родительские послания\, которые жизненно необходимы ребенку в данное время его развития от родителя или главного взрослого\,\nопределить\, что такое контакт с ребенком\, его виды и определить наилучший способ контактирования с вашим ребенком\,\nполучить конкретные ответы на ваши вопросы\n\nКак психологу\, психотерапевту! \n\nПолучить новый инструмент и понимание человека как системы:\nтелесного Эго с Мышлением\, Эмоциями\, жизненной позицией\,\nтелесного Эго с Эго-функциями\, связанными с межличностными отношениями\,\nтелесного Эго и самоуважение\, заземление\, границы и самовыражение.\nПолучить информацию о том\, как память тела влияет на его анатомическое строение тела. Будем учиться практиковать считывать тела и определять основную потребность человека\, которая приводит человека в кабинет психотерапевта.\nПолучим понимание и знания сомато-эмоционального сопровождения терапевта процесса клиента в простых человеческих посланиях.\n\nЧто будем делать? \nПолучаем ментальную информацию о ранних или поздних проявления структуры характера\, рассматриваем конкретные варианты\, исследуем себя и своей ведущей структуры и закрепляем материал телесными упражнениями на пути к сбалансированию системы в теме данной встречи. \nЛектор: Дюба-Соломаха Виктория – психолог\, гештальт-терапевт\, телесно-ориентированный психотерапевт\, терапевт по работе с боевой травмой\, шоком и профилактикой ПТСР. \nДанный курс рассчитан на 10 встреч. \n\n24.02 – «Выживи\, если осмелишься! Или структура существования»\n03.03 – «Я и мои потребности»\n10.03 – «Время исследовать! Я и моя автономия!»\n17.03 – «Я и мои границы в контакте. Как их определять\, выстраивать и защищать! Признаки здоровых границ»\n24.03 – «Взаимосвязь и границы\, самоуважение и достоинство»\n31.03 – «Способность добиваться цели. Манипуляции\, управление\, взаимодействие»\n07.04 – «Любовь и сексуальность. Взаимосвязанность и язык любви»\n14.04  — «Формирование мнения и способности принимать решения и нести ответственность за принятые решения»\n21.04 – «Человек как член общества. Равность или конкурирующая позиция с другими\n28.04 –«Время говорить о разрешении Конфликтов!\n\nКурс стартует с 24 февраля 2017 года каждую следующую пятницу с 18:00 до 21:00 \nСтоимость участия: 250грн за 1 сессию.  При оплате всего курса существует скидка. \nПодтвердить участие необходимо предоплатой 500грн (оплата и номер встреч) \nКоличество участников ограничено!  \nЖдем вас в увлекательное путешествие внутрь себя! \n
URL:http://cstherapy.com.ua/event/kurs-biodinamiki-formirovanie-mneniya-i-sposobnosti-prinimat-resheniya-i-nesti-otvetstvennost-za-prinyatyie-resheniya
LOCATION:ул. Омеляновича-Павленка\, 14/12\, офис 15\, Киев\, Украина
END:VEVENT
BEGIN:VEVENT
DTSTART;TZID=UTC+2:20170414T180000
DTEND;TZID=UTC+2:20170414T210000
DTSTAMP:20260423T072459
CREATED:20170322T125431Z
LAST-MODIFIED:20170322T155244Z
UID:558-1492192800-1492203600@cstherapy.com.ua
SUMMARY:День открытых дверей! Презентация программ обучения и семинарских занятий.
DESCRIPTION:На встрече мы презентуем одну из самых экологичных и эффективных методик восстановления здоровья человека \nКРАНИОСАКРАЛЬНУЮ ТЕРАПИЮ \nВы узнаете : \nЧто же это такое?\nИсторию развития КСТ в мире и в Украине\nКак это работает?\nВозможности человеческого организма \,ресурсы\, источники.\nНеужели без медицинского образования можно научиться помогать детям\, близким\, друзьям\, родственникам?\nГде можно обучиться этому методу? \nВстречу проводит Железко Елена\, врач психотерапевт\, краниосакральный терапевт\, основатель Первая украинская школа телесных терапий \n
URL:http://cstherapy.com.ua/event/den-otkryityih-dverey-prezentatsiya-programm-obucheniya-i-seminarskih-zanyatiy
LOCATION:ул. Омеляновича-Павленка\, 14/12\, офис 15\, Киев\, Украина
END:VEVENT
END:VCALENDAR